BEGIN:VCALENDAR
VERSION:2.0
PRODID:-//Brösarp - ECPv6.15.20//NONSGML v1.0//EN
CALSCALE:GREGORIAN
METHOD:PUBLISH
X-WR-CALNAME:Brösarp
X-ORIGINAL-URL:https://www.xn--brsarp-xxa.se
X-WR-CALDESC:Händelser för Brösarp
REFRESH-INTERVAL;VALUE=DURATION:PT1H
X-Robots-Tag:noindex
X-PUBLISHED-TTL:PT1H
BEGIN:VTIMEZONE
TZID:Europe/Stockholm
BEGIN:DAYLIGHT
TZOFFSETFROM:+0100
TZOFFSETTO:+0200
TZNAME:CEST
DTSTART:20220327T010000
END:DAYLIGHT
BEGIN:STANDARD
TZOFFSETFROM:+0200
TZOFFSETTO:+0100
TZNAME:CET
DTSTART:20221030T010000
END:STANDARD
BEGIN:DAYLIGHT
TZOFFSETFROM:+0100
TZOFFSETTO:+0200
TZNAME:CEST
DTSTART:20230326T010000
END:DAYLIGHT
BEGIN:STANDARD
TZOFFSETFROM:+0200
TZOFFSETTO:+0100
TZNAME:CET
DTSTART:20231029T010000
END:STANDARD
BEGIN:DAYLIGHT
TZOFFSETFROM:+0100
TZOFFSETTO:+0200
TZNAME:CEST
DTSTART:20240331T010000
END:DAYLIGHT
BEGIN:STANDARD
TZOFFSETFROM:+0200
TZOFFSETTO:+0100
TZNAME:CET
DTSTART:20241027T010000
END:STANDARD
BEGIN:DAYLIGHT
TZOFFSETFROM:+0100
TZOFFSETTO:+0200
TZNAME:CEST
DTSTART:20250330T010000
END:DAYLIGHT
BEGIN:STANDARD
TZOFFSETFROM:+0200
TZOFFSETTO:+0100
TZNAME:CET
DTSTART:20251026T010000
END:STANDARD
END:VTIMEZONE
BEGIN:VEVENT
DTSTART;TZID=Europe/Stockholm:20240129T170000
DTEND;TZID=Europe/Stockholm:20240129T180500
DTSTAMP:20260426T042740
CREATED:20240126T152125Z
LAST-MODIFIED:20240126T152139Z
UID:10215-1706547600-1706551500@www.xn--brsarp-xxa.se
SUMMARY:Bokcirkel Brösarps bibliotek
DESCRIPTION:Vi träffas vid fyra tillfällen och samtalar om böcker. Inför första tillfället läser vi boken Det tredje ljuset\, små ting som dessa av Claire Keegan. \nVälkommen att anmäla dig till en eller flera träffar från 2/1. \nTid: Måndag 29/1 kl. 17.00-18.15 \nMåndag 26/2 kl.17.00-18.15 \nMåndag 25/3 kl. 17.00-18.15 \nMåndag 22/4 kl. 17.00-18.15 \nLäs mer på bibliotekets hemsida!
URL:https://www.xn--brsarp-xxa.se/https-brosarp-se-event-single-post-name/bokcirkel-brosarps-bibliotek/
LOCATION:Brösarps bibliotek\, Magistervägen 9\, 273 50 Brösarp\, Sverige
CATEGORIES:Brösarps bibliotek
END:VEVENT
BEGIN:VEVENT
DTSTART;TZID=Europe/Stockholm:20240128T180000
DTEND;TZID=Europe/Stockholm:20240128T193000
DTSTAMP:20260426T042740
CREATED:20240126T135421Z
LAST-MODIFIED:20240126T135421Z
UID:10172-1706464800-1706470200@www.xn--brsarp-xxa.se
SUMMARY:The Old Oak
DESCRIPTION:Till ett tynade gruvsamhälle i norra England anländer en grupp flyktingar från Syrien. De är inte välkomna. Byborna har tillräckligt med bekymmer själva med arbetslöshet och knappa förhållanden och dessutom hotas byns enda pub\, The Old Oak\, med nedläggning. Men pubägaren TJ Ballentyne får en personlig kontakt med den unga Yara och sakta börjar nya tankar och möjligheter växa fram.
URL:https://www.xn--brsarp-xxa.se/https-brosarp-se-event-single-post-name/the-old-oak/
LOCATION:Kiviks bio\, Ordensgatan 5\, Kivik\, 277 30
CATEGORIES:Kiviks bio
ORGANIZER;CN="Kiviks bio":MAILTO:info@kiviksbio.se
END:VEVENT
BEGIN:VEVENT
DTSTART;TZID=Europe/Stockholm:20240127T190000
DTEND;TZID=Europe/Stockholm:20240127T224500
DTSTAMP:20260426T042740
CREATED:20230927T093529Z
LAST-MODIFIED:20230927T093529Z
UID:9850-1706382000-1706395500@www.xn--brsarp-xxa.se
SUMMARY:Carmen - opera
DESCRIPTION:Georges Bizets klassiska opera Carmen tar sig ny form när den hyllade regissören Carrie Cracknell gör sin Met-debut och återupplivar den klassiska historien om dödlig passion med en produktion som flyttar handlingen till nutid och ett gäng människohandlare.\nCarmen attraherar både erfarna och nya operabesökare med sina välbekanta melodier (Toreadorsången!) och är en av världens mest kända operor genom tiderna. \nLäs mer på Kiviks bio
URL:https://www.xn--brsarp-xxa.se/https-brosarp-se-event-single-post-name/carmen-opera/
LOCATION:Kiviks bio\, Ordensgatan 5\, Kivik\, 277 30
CATEGORIES:Kiviks bio
ORGANIZER;CN="Kiviks bio":MAILTO:info@kiviksbio.se
END:VEVENT
BEGIN:VEVENT
DTSTART;TZID=Europe/Stockholm:20240113T000000
DTEND;TZID=Europe/Stockholm:20240113T000000
DTSTAMP:20260426T042740
CREATED:20230908T124356Z
LAST-MODIFIED:20230908T124356Z
UID:9800-1705104000-1705104000@www.xn--brsarp-xxa.se
SUMMARY:Julgransplundring
DESCRIPTION:Dansa kring granen\, käka godis\, frukt och fira julen en sista gång innan december 2024! \nPlats och tid anges närmare evenemanget. \n 
URL:https://www.xn--brsarp-xxa.se/https-brosarp-se-event-single-post-name/julgransplundring/
CATEGORIES:Brösarps Byagille
ATTACH;FMTTYPE=image/jpeg:https://www.xn--brsarp-xxa.se/wp-content/uploads/2023/09/julgran-scaled.jpg
END:VEVENT
BEGIN:VEVENT
DTSTART;TZID=Europe/Stockholm:20240106T190000
DTEND;TZID=Europe/Stockholm:20240106T221000
DTSTAMP:20260426T042740
CREATED:20230927T093055Z
LAST-MODIFIED:20230927T093055Z
UID:9848-1704567600-1704579000@www.xn--brsarp-xxa.se
SUMMARY:Nabucco - opera
DESCRIPTION:Det antika Babylon kommer till liv i en klassisk Met-produktion i ny uppsättning. Giuseppe Verdis mästerverk Nabucco med ukrainska Liudmyla Monastyrska. \nLäs mer på Kiviks bio
URL:https://www.xn--brsarp-xxa.se/https-brosarp-se-event-single-post-name/nabucco-opera/
LOCATION:Kiviks bio\, Ordensgatan 5\, Kivik\, 277 30
CATEGORIES:Kiviks bio
ORGANIZER;CN="Kiviks bio":MAILTO:info@kiviksbio.se
END:VEVENT
BEGIN:VEVENT
DTSTART;TZID=Europe/Stockholm:20231209T190000
DTEND;TZID=Europe/Stockholm:20231209T213000
DTSTAMP:20260426T042740
CREATED:20230927T092714Z
LAST-MODIFIED:20230927T092714Z
UID:9846-1702148400-1702157400@www.xn--brsarp-xxa.se
SUMMARY:Florencia en el Amazonas - opera
DESCRIPTION:Florencia en el Amazonas är Mets första opera på spanska på nästan ett sekel och den tredje någonsin. Den mexikanske kompositören Daniel Catáns opera från 1996 är inspirerad av Nobelpris-belönade författaren Gabriel García Márquez magiska realism. Föreställningen handlar om operadivan Florencia Grimaldi\, som återvänder till sitt hemland Brasilien för att uppträda på det legendariska operahuset i Manaus samt söka efter sin förlorade älskare som försvunnit spårlöst i djungeln. \nLäs mer på Kiviks bio
URL:https://www.xn--brsarp-xxa.se/https-brosarp-se-event-single-post-name/florencia-en-el-amazonas-opera/
LOCATION:Kiviks bio\, Ordensgatan 5\, Kivik\, 277 30
CATEGORIES:Kiviks bio
ORGANIZER;CN="Kiviks bio":MAILTO:info@kiviksbio.se
END:VEVENT
BEGIN:VEVENT
DTSTART;TZID=Europe/Stockholm:20231202T110000
DTEND;TZID=Europe/Stockholm:20231202T150000
DTSTAMP:20260426T042740
CREATED:20230908T123252Z
LAST-MODIFIED:20231119T161456Z
UID:9797-1701514800-1701529200@www.xn--brsarp-xxa.se
SUMMARY:Julmarknad
DESCRIPTION:Alla i och omkring Brösarp träffas och laddar med med härlig julmat och julklappar från lokala producenter!\nUtställare 20 – 25 stycken. Fri entré. \nPassa på att handla julklappar\, fantastiska hantverk\, god julmat\, fika gott och träffa tomten! \nVi ses på Brösarps Bygdegård.
URL:https://www.xn--brsarp-xxa.se/https-brosarp-se-event-single-post-name/julmarknad/
LOCATION:Brösarps bygdegård\, Albovägen 36\, Brösarp\, 273 50\, Sweden
CATEGORIES:Brösarps Byagille
ATTACH;FMTTYPE=image/jpeg:https://www.xn--brsarp-xxa.se/wp-content/uploads/2023/09/julmarknad.jpg
END:VEVENT
BEGIN:VEVENT
DTSTART;TZID=Europe/Stockholm:20231122T080000
DTEND;TZID=Europe/Stockholm:20231122T170000
DTSTAMP:20260426T042740
CREATED:20230908T122611Z
LAST-MODIFIED:20231113T145439Z
UID:9795-1700640000-1700672400@www.xn--brsarp-xxa.se
SUMMARY:Filmvisning
DESCRIPTION:Uppskjutet till 2024. Nytt datum kommer! \nEn andra chans att titta på filmer från förr\, i och runt Brösarp! \n 
URL:https://www.xn--brsarp-xxa.se/https-brosarp-se-event-single-post-name/filmvisning-2/
CATEGORIES:Brösarps Byagille
ATTACH;FMTTYPE=image/jpeg:https://www.xn--brsarp-xxa.se/wp-content/uploads/2023/09/film-scaled.jpg
END:VEVENT
BEGIN:VEVENT
DTSTART;TZID=Europe/Stockholm:20231115T000000
DTEND;TZID=Europe/Stockholm:20231115T000000
DTSTAMP:20260426T042740
CREATED:20230908T122358Z
LAST-MODIFIED:20231113T145318Z
UID:9791-1700006400-1700006400@www.xn--brsarp-xxa.se
SUMMARY:Filmvisning
DESCRIPTION:Detta är uppskjutet till 2024. Nytt datum kommer! \nTitta på filmer från förr\, i och runt Brösarp! \n 
URL:https://www.xn--brsarp-xxa.se/https-brosarp-se-event-single-post-name/filmvisning/
CATEGORIES:Brösarps Byagille
ATTACH;FMTTYPE=image/jpeg:https://www.xn--brsarp-xxa.se/wp-content/uploads/2023/09/film-scaled.jpg
END:VEVENT
BEGIN:VEVENT
DTSTART;TZID=Europe/Stockholm:20231111T120000
DTEND;TZID=Europe/Stockholm:20231112T160000
DTSTAMP:20260426T042740
CREATED:20231009T163321Z
LAST-MODIFIED:20231009T163321Z
UID:9875-1699704000-1699804800@www.xn--brsarp-xxa.se
SUMMARY:Textilutställning
DESCRIPTION:TEXTILUTSTÄLLNING på Bengtemölla\n11–12 november \nÖppet: kl. 12 – 16.00 \nBroderade bonader – Maj Björnberg\nBroderier – Hulda Berglund\nSkånskt yllebroderi – Ally Svensson\, Annika Nilsson m.fl.\nTextilt återbruk – Pimpinella med flera\nVävda alster – Nya och gamla i olika tekniker\nKorsstygn och applikationer – Clara Waever \nKaffeservering \nFörsäljning av alster från Sankt Olofs vävstuga. \nVägvisning till Bengtemölla gård:\nSväng in på vägen mittemot ICA i Brösarp\, följ Bengtemöllavägen\, efter bron sväng vänster.\nParkering på baksidan av husen. \nMycket välkomna!\nFöreningen Flitiga händer
URL:https://www.xn--brsarp-xxa.se/https-brosarp-se-event-single-post-name/textilutstallning-4/
LOCATION:Bengtemölla gård\, Sverige
ATTACH;FMTTYPE=image/jpeg:https://www.xn--brsarp-xxa.se/wp-content/uploads/2023/10/textil.jpg
END:VEVENT
BEGIN:VEVENT
DTSTART;TZID=Europe/Stockholm:20231109T190000
DTEND;TZID=Europe/Stockholm:20231109T203000
DTSTAMP:20260426T042740
CREATED:20231029T180151Z
LAST-MODIFIED:20231029T181652Z
UID:9884-1699556400-1699561800@www.xn--brsarp-xxa.se
SUMMARY:Nattpatrullen presenterar - Informerad och förberedd!!
DESCRIPTION:Kommunpolis Per Hansson informerar om aktuella säkerhetsfrågor. \nKrisberedskapssamordnare Tomelilla kommun Anna Laséen Karlsson föreläser om hur: \n– vi tillsammans ökar vår beredskap \n– varför just du är så viktig för Sveriges beredskap\n– kommunens arbete med att förbereda sina verksamheter för kris och krig \nVi bjuder på fika\nVäl mött!
URL:https://www.xn--brsarp-xxa.se/https-brosarp-se-event-single-post-name/nattpatrullen-presenterar-informerad-och-forberedd/
LOCATION:Brösarps IF klubbstuga\, Brunnsviksvägen 26\, Brösarp\, Sverige
END:VEVENT
BEGIN:VEVENT
DTSTART;TZID=Europe/Stockholm:20231105T180000
DTEND;TZID=Europe/Stockholm:20231105T194000
DTSTAMP:20260426T042740
CREATED:20230927T092304Z
LAST-MODIFIED:20230927T092304Z
UID:9844-1699207200-1699213200@www.xn--brsarp-xxa.se
SUMMARY:Golda
DESCRIPTION:En porträttlik Hellen Mirren gestaltar Israels premiärminister Golda Meir under det dramatiska Jom Kippur-kriget 1973. Landet Israels existens står på spel efter Egyptens och Syriens överraskande anfall på Israel under själva Försoningshelgen. \nLäs mer på Kiviks bio 
URL:https://www.xn--brsarp-xxa.se/https-brosarp-se-event-single-post-name/golda/
LOCATION:Kiviks bio\, Ordensgatan 5\, Kivik\, 277 30
CATEGORIES:Kiviks bio
ATTACH;FMTTYPE=image/jpeg:https://www.xn--brsarp-xxa.se/wp-content/uploads/2023/09/film-scaled.jpg
ORGANIZER;CN="Kiviks bio":MAILTO:info@kiviksbio.se
END:VEVENT
BEGIN:VEVENT
DTSTART;TZID=Europe/Stockholm:20231104T170000
DTEND;TZID=Europe/Stockholm:20231104T200000
DTSTAMP:20260426T042740
CREATED:20230705T082412Z
LAST-MODIFIED:20231029T181819Z
UID:9776-1699117200-1699128000@www.xn--brsarp-xxa.se
SUMMARY:Österlen lyser
DESCRIPTION:Österlen lyser firande med marschaller och mer i Brösarps by. Marschallerna tänds vid 17.00-tiden lördagen den 4 november och sedan är det bara att njuta. I år anordnas en tipsrunda för både barn & vuxna med start 17.00 vid ICA. Fogarolli har godsaker & drycker till försäljning. \nVarmt välkomna!
URL:https://www.xn--brsarp-xxa.se/https-brosarp-se-event-single-post-name/osterlen-lyser/
LOCATION:Brösarps by
ATTACH;FMTTYPE=image/jpeg:https://www.xn--brsarp-xxa.se/wp-content/uploads/2023/10/ljus2.jpg
END:VEVENT
BEGIN:VEVENT
DTSTART;TZID=Europe/Stockholm:20231104T120000
DTEND;TZID=Europe/Stockholm:20231105T160000
DTSTAMP:20260426T042740
CREATED:20231009T162057Z
LAST-MODIFIED:20231009T162057Z
UID:9872-1699099200-1699200000@www.xn--brsarp-xxa.se
SUMMARY:Textilutställning
DESCRIPTION:TEXTILUTSTÄLLNING på Bengtemölla\n4–5 november\n11–12 november \nÖppet: kl. 12 – 16.00 \nBroderade bonader – Maj Björnberg\nBroderier – Hulda Berglund\nSkånskt yllebroderi – Ally Svensson\, Annika Nilsson m.fl.\nTextilt återbruk – Pimpinella med flera\nVävda alster – Nya och gamla i olika tekniker\nKorsstygn och applikationer – Clara Waever \nKaffeservering \nFörsäljning av alster från Sankt Olofs vävstuga. \nVägvisning till Bengtemölla gård:\nSväng in på vägen mittemot ICA i Brösarp\, följ Bengtemöllavägen\, efter bron sväng vänster.\nParkering på baksidan av husen. \nMycket välkomna!\nFöreningen Flitiga händer
URL:https://www.xn--brsarp-xxa.se/https-brosarp-se-event-single-post-name/textilutstallning-3/
LOCATION:Bengtemölla gård\, Sverige
ATTACH;FMTTYPE=image/jpeg:https://www.xn--brsarp-xxa.se/wp-content/uploads/2023/10/textil.jpg
END:VEVENT
BEGIN:VEVENT
DTSTART;TZID=Europe/Stockholm:20231102T190000
DTEND;TZID=Europe/Stockholm:20231102T203000
DTSTAMP:20260426T042740
CREATED:20230927T091928Z
LAST-MODIFIED:20230927T091928Z
UID:9842-1698951600-1698957000@www.xn--brsarp-xxa.se
SUMMARY:Höstlöv som faller
DESCRIPTION:Två ensamma främlingar möts i natten på jakt efter livets första\, största och enda kärlek. Men mycket står i vägen för lyckan. \nFilmen vann Jurypriset i Cannes 2023 och har beskrivits som en varm filt i en kall värld. \nLäs mer på Kiviks bio
URL:https://www.xn--brsarp-xxa.se/https-brosarp-se-event-single-post-name/hostlov-som-faller/
LOCATION:Kiviks bio\, Ordensgatan 5\, Kivik\, 277 30
CATEGORIES:Kiviks bio
ATTACH;FMTTYPE=image/jpeg:https://www.xn--brsarp-xxa.se/wp-content/uploads/2023/09/film-scaled.jpg
ORGANIZER;CN="Kiviks bio":MAILTO:info@kiviksbio.se
END:VEVENT
BEGIN:VEVENT
DTSTART;TZID=Europe/Stockholm:20231101T150000
DTEND;TZID=Europe/Stockholm:20231101T164000
DTSTAMP:20260426T042740
CREATED:20230927T091553Z
LAST-MODIFIED:20230927T091553Z
UID:9840-1698850800-1698856800@www.xn--brsarp-xxa.se
SUMMARY:Höstlovsfilm! Nelly Rapp – Dödens spegel
DESCRIPTION:Lagom till Halloween möter vi återigen den orädda och skarpsinniga Nelly Rapp. Den här gången letar hon efter Dödens Spegel – en spegel där man kan möta sina döda som man vill få kontakt med. Nelly vill framför allt hitta sin försvunna mamma. Är hon död eller har Nelly en chans att hitta henne? \nLäs mer på Kiviks bio
URL:https://www.xn--brsarp-xxa.se/https-brosarp-se-event-single-post-name/hostlovsfilm-nelly-rapp-dodens-spegel/
LOCATION:Kiviks bio\, Ordensgatan 5\, Kivik\, 277 30
CATEGORIES:Kiviks bio
ATTACH;FMTTYPE=image/jpeg:https://www.xn--brsarp-xxa.se/wp-content/uploads/2023/09/film-scaled.jpg
ORGANIZER;CN="Kiviks bio":MAILTO:info@kiviksbio.se
END:VEVENT
BEGIN:VEVENT
DTSTART;TZID=Europe/Stockholm:20231031T180000
DTEND;TZID=Europe/Stockholm:20231031T180000
DTSTAMP:20260426T042740
CREATED:20231003T082258Z
LAST-MODIFIED:20231003T082258Z
UID:9852-1698775200-1698775200@www.xn--brsarp-xxa.se
SUMMARY:Spökvandring
DESCRIPTION:Brösarps scoutkår bjuder in till spökvandring.\nSamling vid idrottsplatsen. Det kommer att finnas chokladhjul och korvgrillning.\nKostnad: 50 kr per person. Under 4 år gratis.
URL:https://www.xn--brsarp-xxa.se/https-brosarp-se-event-single-post-name/spokvandring/
LOCATION:Idrottsplatsen\, Brunnsviksvägen\, Brösarp\, Sverige
CATEGORIES:Brösarps scoutkår
ATTACH;FMTTYPE=image/jpeg:https://www.xn--brsarp-xxa.se/wp-content/uploads/2023/10/scoutspok.jpg
END:VEVENT
BEGIN:VEVENT
DTSTART;TZID=Europe/Stockholm:20231029T180000
DTEND;TZID=Europe/Stockholm:20231029T213000
DTSTAMP:20260426T042740
CREATED:20230927T091235Z
LAST-MODIFIED:20230927T091235Z
UID:9838-1698602400-1698615000@www.xn--brsarp-xxa.se
SUMMARY:Killers of the Flower Moon
DESCRIPTION:Martin Scorsese vänder blicken mot en mörk period i Amerikas historia och han gör det tillsammans med sina favoritskådespelare Robert De Niro och Leonardo di Caprio. Under tidigt 1920-tal upptäcker Osage Nation\, ett indianreservat i Oklahoma\, en stor mängd olja på sin mark. Det som till en början hälsas som en välsignelse förvandlas snart till en mardröm när medlemmar av Osage börjar dö under mystiska omständigheter. Filmen skildrar våldsamma motsättningar mellan ursprungsbefolkning och vita landägare och exploatörer och skildrar också födelsen och de tidiga åren av FBI. En episk film av format. \nLäs mer på Kiviks bio
URL:https://www.xn--brsarp-xxa.se/https-brosarp-se-event-single-post-name/killers-of-the-flower-moon/
LOCATION:Kiviks bio\, Ordensgatan 5\, Kivik\, 277 30
CATEGORIES:Kiviks bio
ATTACH;FMTTYPE=image/jpeg:https://www.xn--brsarp-xxa.se/wp-content/uploads/2023/09/film-scaled.jpg
ORGANIZER;CN="Kiviks bio":MAILTO:info@kiviksbio.se
END:VEVENT
BEGIN:VEVENT
DTSTART;TZID=Europe/Stockholm:20231028T120000
DTEND;TZID=Europe/Stockholm:20231029T160000
DTSTAMP:20260426T042740
CREATED:20231009T161854Z
LAST-MODIFIED:20231009T161854Z
UID:9870-1698494400-1698595200@www.xn--brsarp-xxa.se
SUMMARY:Textilutställning
DESCRIPTION:TEXTILUTSTÄLLNING på Bengtemölla\n28–29 oktober\n4–5 november\n11–12 november \nÖppet: kl. 12 – 16.00 \nBroderade bonader – Maj Björnberg\nBroderier – Hulda Berglund\nSkånskt yllebroderi – Ally Svensson\, Annika Nilsson m.fl.\nTextilt återbruk – Pimpinella med flera\nVävda alster – Nya och gamla i olika tekniker\nKorsstygn och applikationer – Clara Waever \nKaffeservering \nFörsäljning av alster från Sankt Olofs vävstuga. \nVägvisning till Bengtemölla gård:\nSväng in på vägen mittemot ICA i Brösarp\, följ Bengtemöllavägen\, efter bron sväng vänster.\nParkering på baksidan av husen. \nMycket välkomna!\nFöreningen Flitiga händer
URL:https://www.xn--brsarp-xxa.se/https-brosarp-se-event-single-post-name/textilutstallning-2/
LOCATION:Bengtemölla gård\, Sverige
ATTACH;FMTTYPE=image/jpeg:https://www.xn--brsarp-xxa.se/wp-content/uploads/2023/10/textil.jpg
END:VEVENT
BEGIN:VEVENT
DTSTART;TZID=Europe/Stockholm:20231026T190000
DTEND;TZID=Europe/Stockholm:20231026T211000
DTSTAMP:20260426T042740
CREATED:20230927T090835Z
LAST-MODIFIED:20230927T090835Z
UID:9836-1698346800-1698354600@www.xn--brsarp-xxa.se
SUMMARY:Joyland
DESCRIPTION:I en traditionell pakistansk familj vet man vad man förväntar sig av sina söner. De ska gifta sig och skaffa fler söner\, men yngste sonen Haider uppfyller inte riktigt idealen. \nLäs mer på Kiviks bio
URL:https://www.xn--brsarp-xxa.se/https-brosarp-se-event-single-post-name/joyland/
LOCATION:Kiviks bio\, Ordensgatan 5\, Kivik\, 277 30
CATEGORIES:Kiviks bio
ATTACH;FMTTYPE=image/jpeg:https://www.xn--brsarp-xxa.se/wp-content/uploads/2023/09/film-scaled.jpg
ORGANIZER;CN="Kiviks bio":MAILTO:info@kiviksbio.se
END:VEVENT
BEGIN:VEVENT
DTSTART;TZID=Europe/Stockholm:20231026T183000
DTEND;TZID=Europe/Stockholm:20231026T200000
DTSTAMP:20260426T042740
CREATED:20230705T081911Z
LAST-MODIFIED:20231022T182443Z
UID:9774-1698345000-1698350400@www.xn--brsarp-xxa.se
SUMMARY:Föreläsning med Lena Alebo
DESCRIPTION:Kom och lyssna på Lena Alebo som berättar om händelser och personer i Brösarp!\nAllt ur hennes historiska skattkista… \nEntre: 60 kronor
URL:https://www.xn--brsarp-xxa.se/https-brosarp-se-event-single-post-name/forelasning-med-lena-alebo/
LOCATION:Brösarps konsthall\, Höjerensvägen 4\, Brösarp
CATEGORIES:Brösarps Byagille
END:VEVENT
BEGIN:VEVENT
DTSTART;TZID=Europe/Stockholm:20231022T180000
DTEND;TZID=Europe/Stockholm:20231022T200000
DTSTAMP:20260426T042740
CREATED:20230927T090505Z
LAST-MODIFIED:20230927T090505Z
UID:9834-1697997600-1698004800@www.xn--brsarp-xxa.se
SUMMARY:Mord i Venedig
DESCRIPTION:Hercule Poirot (Kenneth Branagh) befinner sig i självvald exil i kallt och vintrigt Venedig strax efter andra världskriget. Där blir han\, något motvilligt\, övertalad att delta i en seans i ett förfallet palats som påstås vara hemsökt. Under seansen blir en av deltagarna mördad. \nLäs mer på Kiviks bio
URL:https://www.xn--brsarp-xxa.se/https-brosarp-se-event-single-post-name/mord-i-venedig/
LOCATION:Kiviks bio\, Ordensgatan 5\, Kivik\, 277 30
CATEGORIES:Kiviks bio
ATTACH;FMTTYPE=image/jpeg:https://www.xn--brsarp-xxa.se/wp-content/uploads/2023/09/film-scaled.jpg
ORGANIZER;CN="Kiviks bio":MAILTO:info@kiviksbio.se
END:VEVENT
BEGIN:VEVENT
DTSTART;TZID=Europe/Stockholm:20231021T120000
DTEND;TZID=Europe/Stockholm:20231022T160000
DTSTAMP:20260426T042740
CREATED:20231009T161412Z
LAST-MODIFIED:20231009T163506Z
UID:9865-1697889600-1697990400@www.xn--brsarp-xxa.se
SUMMARY:Textilutställning
DESCRIPTION:TEXTILUTSTÄLLNING på Bengtemölla\n21–22 oktober\n28–29 oktober\n4–5 november\n11–12 november \nÖppet: kl. 12 – 16.00 \nBroderade bonader – Maj Björnberg\nBroderier – Hulda Berglund\nSkånskt yllebroderi – Ally Svensson\, Annika Nilsson m.fl.\nTextilt återbruk – Pimpinella med flera\nVävda alster – Nya och gamla i olika tekniker\nKorsstygn och applikationer – Clara Waever \nKaffeservering \nFörsäljning av alster från Sankt Olofs vävstuga. \nVägvisning till Bengtemölla gård:\nSväng in på vägen mittemot ICA i Brösarp\, följ Bengtemöllavägen\, efter bron sväng vänster.\nParkering på baksidan av husen. \nMycket välkomna!\nFöreningen Flitiga händer
URL:https://www.xn--brsarp-xxa.se/https-brosarp-se-event-single-post-name/textilutstallning/
LOCATION:Bengtemölla gård\, Sverige
ATTACH;FMTTYPE=image/jpeg:https://www.xn--brsarp-xxa.se/wp-content/uploads/2023/10/textil.jpg
END:VEVENT
BEGIN:VEVENT
DTSTART;TZID=Europe/Stockholm:20231019T190000
DTEND;TZID=Europe/Stockholm:20231019T210000
DTSTAMP:20260426T042740
CREATED:20230927T090127Z
LAST-MODIFIED:20230927T090127Z
UID:9832-1697742000-1697749200@www.xn--brsarp-xxa.se
SUMMARY:Kyssen
DESCRIPTION:Danmark 1913\, strax före första världskriget. Anton Abildgaard\, en plikttrogen ung man som gör sin officersutbildning inom kavalleriet\, blir inviterad på bal till baron Løvenskjolds praktfulla herrgård. Intet ont anande bjuder han upp baronens vackra dotter Edith till dans\, men eftersom hon är lam i båda benen sedan en ridolycka försätter han henne i en högst pinsam situation. \nLäs mer på Kiviks bio 
URL:https://www.xn--brsarp-xxa.se/https-brosarp-se-event-single-post-name/kyssen/
LOCATION:Kiviks bio\, Ordensgatan 5\, Kivik\, 277 30
CATEGORIES:Kiviks bio
ATTACH;FMTTYPE=image/jpeg:https://www.xn--brsarp-xxa.se/wp-content/uploads/2023/09/film-scaled.jpg
ORGANIZER;CN="Kiviks bio":MAILTO:info@kiviksbio.se
END:VEVENT
BEGIN:VEVENT
DTSTART;TZID=Europe/Stockholm:20231015T180000
DTEND;TZID=Europe/Stockholm:20231015T200000
DTSTAMP:20260426T042740
CREATED:20230927T085446Z
LAST-MODIFIED:20230927T085446Z
UID:9830-1697392800-1697400000@www.xn--brsarp-xxa.se
SUMMARY:Tillsammans 99
DESCRIPTION:Tillsammans 99 handlar om vännerna som 1975 bodde ihop i kollektivet Tillsammans. Nu är det 1999\, 24 år senare\, och kollektivet har förvandlats till världens minsta. Storfamiljen består av endast två personer. Göran (Gustaf Hammarsten)\, som är världens snällaste sitter i en stuga med Klasse (Shanti Roney) som väver trasmattor. De känner sig lite ensamma. \nLäs mer på Kiviks bio
URL:https://www.xn--brsarp-xxa.se/https-brosarp-se-event-single-post-name/tillsammans-99/
LOCATION:Kiviks bio\, Ordensgatan 5\, Kivik\, 277 30
CATEGORIES:Kiviks bio
ATTACH;FMTTYPE=image/jpeg:https://www.xn--brsarp-xxa.se/wp-content/uploads/2023/09/film-scaled.jpg
ORGANIZER;CN="Kiviks bio":MAILTO:info@kiviksbio.se
END:VEVENT
BEGIN:VEVENT
DTSTART;TZID=Europe/Stockholm:20231015T100000
DTEND;TZID=Europe/Stockholm:20231015T130000
DTSTAMP:20260426T042740
CREATED:20230705T081118Z
LAST-MODIFIED:20231009T150103Z
UID:9770-1697364000-1697374800@www.xn--brsarp-xxa.se
SUMMARY:Bakluckeloppis
DESCRIPTION:Säljare och köpare träffas för att fynda gamla\, nya och fantastiska saker! \n100 :- bil\n150 :- bil med släp\n50 :- bord (begränsat antal)
URL:https://www.xn--brsarp-xxa.se/https-brosarp-se-event-single-post-name/bakluckeloppis-2/
LOCATION:Gamla vägstationsområdet\, Smedjevägen 11\, Brösarp
CATEGORIES:Brösarps Byagille
ATTACH;FMTTYPE=image/jpeg:https://www.xn--brsarp-xxa.se/wp-content/uploads/2023/04/loppis-e1681385509901.jpg
END:VEVENT
BEGIN:VEVENT
DTSTART;TZID=Europe/Stockholm:20231013T100000
DTEND;TZID=Europe/Stockholm:20231015T160000
DTSTAMP:20260426T042740
CREATED:20231008T172954Z
LAST-MODIFIED:20231008T172954Z
UID:9859-1697191200-1697385600@www.xn--brsarp-xxa.se
SUMMARY:Design och Antik i Brösarp 2023
DESCRIPTION:Missa inte höstens glödheta antikmässa i Skåne! För sjuttonde gången arrangeras höstens mässa i Brösarp. \nModerna möbelklassiker\, konsthantverk\, konst\, fotografi\, silver\, vintagemode och i år även klassiska antikviteter kommer att fylla mässlokalerna i lilla charmiga byn Brösarp. Mässan har blivit ett viktigt forum där intresset för modern design kommer till uttryck.
URL:https://www.xn--brsarp-xxa.se/https-brosarp-se-event-single-post-name/design-och-antik-i-brosarp-2023/
LOCATION:Bengtemöllevägen 5\, Brösarp
END:VEVENT
BEGIN:VEVENT
DTSTART;TZID=Europe/Stockholm:20231012T190000
DTEND;TZID=Europe/Stockholm:20231012T204500
DTSTAMP:20260426T042740
CREATED:20230927T085020Z
LAST-MODIFIED:20230927T085020Z
UID:9828-1697137200-1697143500@www.xn--brsarp-xxa.se
SUMMARY:Avgrunden
DESCRIPTION:Att något ska hända i Kiruna är det ingen tvekan om\, frågan är bara när. I händelsernas centrum står Frigga (Tuva Novotny\, Dag\, Borg) som vid sidan av arbetet som säkerhetschef i gruvan försöker balansera familjen\, den nya kärleken Dabir (Kardo Razzazi) och ett ex som inte vill släppa taget (Peter Franzén). Men när marken plötsligt skakar under fötterna och staden börjar kollapsa ner i avgrunden blir vardaglighetens bekymmer sekundära. \nLäs mer på Kiviks bio
URL:https://www.xn--brsarp-xxa.se/https-brosarp-se-event-single-post-name/avgrunden/
LOCATION:Kiviks bio\, Ordensgatan 5\, Kivik\, 277 30
CATEGORIES:Kiviks bio
ATTACH;FMTTYPE=image/jpeg:https://www.xn--brsarp-xxa.se/wp-content/uploads/2023/09/film-scaled.jpg
ORGANIZER;CN="Kiviks bio":MAILTO:info@kiviksbio.se
END:VEVENT
BEGIN:VEVENT
DTSTART;TZID=Europe/Stockholm:20231011T150000
DTEND;TZID=Europe/Stockholm:20231011T170000
DTSTAMP:20260426T042740
CREATED:20230927T084514Z
LAST-MODIFIED:20230927T084514Z
UID:9826-1697036400-1697043600@www.xn--brsarp-xxa.se
SUMMARY:Favorit i repris! Book Club
DESCRIPTION:“Hur gör en 70-årig kvinna för att bli gift?” frågar en av de livsbejakande\, något äldre damerna i bokklubben. ”Hon tar kontroll över sitt eget liv!” svarar en annan. I den här filmen möter vi de fyra väninnorna Diane\, Viviane\, Sharon och Carol som varit bästa vänner i 50 år. Och nu ska Vivian gifta sig! \nLäs mer på Kiviks bio
URL:https://www.xn--brsarp-xxa.se/https-brosarp-se-event-single-post-name/favorit-i-repris-book-club/
LOCATION:Kiviks bio\, Ordensgatan 5\, Kivik\, 277 30
CATEGORIES:Kiviks bio
ATTACH;FMTTYPE=image/jpeg:https://www.xn--brsarp-xxa.se/wp-content/uploads/2023/09/film-scaled.jpg
ORGANIZER;CN="Kiviks bio":MAILTO:info@kiviksbio.se
END:VEVENT
BEGIN:VEVENT
DTSTART;TZID=Europe/Stockholm:20231008T180000
DTEND;TZID=Europe/Stockholm:20231008T203000
DTSTAMP:20260426T042740
CREATED:20230927T084121Z
LAST-MODIFIED:20230927T084121Z
UID:9824-1696788000-1696797000@www.xn--brsarp-xxa.se
SUMMARY:Fritt fall
DESCRIPTION:Regissören Justine Triet har åskådaren i ett fast grepp med sin film Fritt fall som rör sig i gränslandet mellan Scener ur ett äktenskap och en thriller av Alfred Hitchcock. Vinnare av Guldpalmen i Cannes 2023. \nLäs mer på Kiviks bio
URL:https://www.xn--brsarp-xxa.se/https-brosarp-se-event-single-post-name/fritt-fall/
LOCATION:Kiviks bio\, Ordensgatan 5\, Kivik\, 277 30
CATEGORIES:Kiviks bio
ATTACH;FMTTYPE=image/jpeg:https://www.xn--brsarp-xxa.se/wp-content/uploads/2023/09/film-scaled.jpg
ORGANIZER;CN="Kiviks bio":MAILTO:info@kiviksbio.se
END:VEVENT
END:VCALENDAR